BEGIN:VCALENDAR
PRODID:-//github.com/rianjs/ical.net//NONSGML ical.net 4.0//EN
VERSION:2.0
BEGIN:VEVENT
DESCRIPTION:Details:\nhttps://bbyo.org/bbyo-near-you/regions/mountain-regi
 on/tucson-azaa-bbgg-sports-day
DTEND:20221023T133000
DTSTAMP:20260424T145117Z
DTSTART:20221023T103000
LOCATION:Tucson Arizona
SEQUENCE:0
SUMMARY:Tucson AZAA/BBGG Sports Day
UID:f25e7adb-1a9e-4b68-9c25-b1a1f7d2cf00
END:VEVENT
END:VCALENDAR
