BEGIN:VCALENDAR
PRODID:-//github.com/rianjs/ical.net//NONSGML ical.net 4.0//EN
VERSION:2.0
BEGIN:VEVENT
DESCRIPTION:Details:\nhttps://bbyo.org/bbyo-near-you/regions/nassau-suffol
 k-region/presidents-meeting\n\nSummary:\nPresidents Meeting
DTEND:20070204T160000
DTSTAMP:20260423T020337Z
DTSTART:20070204T110000
LOCATION:Regional Office
SEQUENCE:0
SUMMARY:Presidents Meeting
UID:5b1b5369-5460-42d7-be26-de90bbdac231
END:VEVENT
END:VCALENDAR
