BEGIN:VCALENDAR
PRODID:-//github.com/rianjs/ical.net//NONSGML ical.net 4.0//EN
VERSION:2.0
BEGIN:VEVENT
DESCRIPTION:Details:\nhttps://bbyo.org/bbyo-near-you/regions/hudson-valley
 -region/westchester-rlti-2016-for-regional-board-only\n\nSummary:\nTHIS L
 INK IS FOR REGIONAL BOARD OFFICERS ONLY! Regional Leadership Training Ins
 titute for all members kicks off our programming year. Teens from through
 out the region will be joined by teens
DTEND:20160828T170000
DTSTAMP:20260420T180507Z
DTSTART:20160825T110000
LOCATION:Sheraton at Bradley Airport
SEQUENCE:0
SUMMARY:Westchester RLTI 2016- for Regional Board ONLY
UID:9ac74f75-de17-481d-91cf-4fb7a1983d81
END:VEVENT
END:VCALENDAR
