BEGIN:VCALENDAR
PRODID:-//github.com/rianjs/ical.net//NONSGML ical.net 4.0//EN
VERSION:2.0
BEGIN:VEVENT
DESCRIPTION:Details:\nhttps://bbyo.org/bbyo-near-you/regions/northern-regi
 on-east-dc-council/monday-meet-up-(12)
DTEND:20240304T200000
DTSTAMP:20260423T042651Z
DTSTART:20240304T190000
LOCATION:
SEQUENCE:0
SUMMARY:Monday Meet-Up
UID:bd24501c-e797-451b-aa54-5cfa684870d1
END:VEVENT
END:VCALENDAR
