BEGIN:VCALENDAR
PRODID:-//github.com/rianjs/ical.net//NONSGML ical.net 4.0//EN
VERSION:2.0
BEGIN:VEVENT
DESCRIPTION:Details:\nhttps://bbyo.org/bbyo-near-you/regions/keystone-moun
 tain-region/kmr-regionals-convention-2022
DTEND;VALUE=DATE:20220501
DTSTAMP:20260426T013605Z
DTSTART;VALUE=DATE:20220429
LOCATION:Emma Kaufmann Camp
SEQUENCE:0
SUMMARY:KMR Regionals Convention 2022
UID:a8729bf0-5646-4f57-bace-58164f9260e3
END:VEVENT
END:VCALENDAR
