BEGIN:VCALENDAR
PRODID:-//github.com/rianjs/ical.net//NONSGML ical.net 4.0//EN
VERSION:2.0
BEGIN:VEVENT
DESCRIPTION:Details:\nhttps://bbyo.org/bbyo-near-you/regions/north-texas-o
 klahoma-region/dallas-council-flag-football-and-volleyball-(2)\n\nSummary
 :\nAZA Flag Football\n6pm - Brandeis v. Berger\n7pm - Kaplan A v. Lacey\n
 8pm - Kaplan B v. Monsky\n\nBBG Volleyball\n6pm - Wadel v. Sablosky\n7pm 
 - Kravitz v. Zesmer
DTEND:20061022T210000
DTSTAMP:20260422T101551Z
DTSTART:20061022T180000
LOCATION:JCC of Dallas
SEQUENCE:0
SUMMARY:Dallas Council Flag Football and Volleyball
UID:c01d9f24-5821-47ba-9a92-2b7bde8f2022
END:VEVENT
END:VCALENDAR
