BEGIN:VCALENDAR
PRODID:-//github.com/rianjs/ical.net//NONSGML ical.net 4.0//EN
VERSION:2.0
BEGIN:VEVENT
DESCRIPTION:Details:\nhttps://bbyo.org/bbyo-near-you/regions/nassau-suffol
 k-region/ahavah-dessert-seder
DTEND:20220410T160000
DTSTAMP:20260423T195621Z
DTSTART:20220410T140000
LOCATION:Mid Island Y JCC
SEQUENCE:0
SUMMARY:Ahavah Dessert Seder
UID:6824a8ec-6593-4494-ac8f-74db2a01e472
END:VEVENT
END:VCALENDAR
