BEGIN:VCALENDAR
PRODID:-//github.com/rianjs/ical.net//NONSGML ical.net 4.0//EN
VERSION:2.0
BEGIN:VEVENT
DESCRIPTION:Details:\nhttps://bbyo.org/bbyo-near-you/regions/north-texas-o
 klahoma-region/nto-advisor-meeting
DTEND:20210913T200000
DTSTAMP:20260425T182706Z
DTSTART:20210913T190000
LOCATION:Zoom
SEQUENCE:0
SUMMARY:NTO Advisor Meeting
UID:80e034ec-ec00-4da3-ba94-88daeb609b4b
END:VEVENT
END:VCALENDAR
