BEGIN:VCALENDAR
PRODID:-//github.com/rianjs/ical.net//NONSGML ical.net 4.0//EN
VERSION:2.0
BEGIN:VEVENT
DESCRIPTION:Details:\nhttps://bbyo.org/bbyo-near-you/regions/manhattan-reg
 ion/spring-convention-manhattan-region-(pc3020)\n\nSummary:\nJoin us for 
 two nights of teen-led programs\, fun\, evening socials\, and brotherhood
 /sisterhood bonding. The theme for this convention is BBYO Strong and wil
 l highlight our su
DTEND:20160522T110000
DTSTAMP:20260424T165359Z
DTSTART:20160520T170000
LOCATION:Danbury\, CT
SEQUENCE:0
SUMMARY:Spring Convention - Manhattan Region (PC3020)
UID:e4bd53cb-ed4a-47c0-9f5e-bb9bdb78a8f5
END:VEVENT
END:VCALENDAR
