BEGIN:VCALENDAR
PRODID:-//github.com/rianjs/ical.net//NONSGML ical.net 4.0//EN
VERSION:2.0
BEGIN:VEVENT
DESCRIPTION:Details:\nhttps://bbyo.org/bbyo-near-you/regions/gold-coast-re
 gion/gold-coast-region-s-winter-retreat
DTEND;VALUE=DATE:20180121
DTSTAMP:20260423T133830Z
DTSTART;VALUE=DATE:20180119
LOCATION:
SEQUENCE:0
SUMMARY:Gold Coast Region's Winter Retreat
UID:c3b17d1a-cca3-4423-b295-4bb96e77b5cd
END:VEVENT
END:VCALENDAR
