BEGIN:VCALENDAR
PRODID:-//github.com/rianjs/ical.net//NONSGML ical.net 4.0//EN
VERSION:2.0
BEGIN:VEVENT
DESCRIPTION:Details:\nhttps://bbyo.org/bbyo-near-you/regions/pacific-weste
 rn-region/pwr-j-serve-beach-clean-up
DTEND:20220410T150000
DTSTAMP:20260423T042531Z
DTSTART:20220410T120000
LOCATION:Huntington Beach California
SEQUENCE:0
SUMMARY:PWR J-Serve: Beach Clean Up
UID:dbc33de9-c2e4-4dd4-9c55-c36dcbcb26f3
END:VEVENT
END:VCALENDAR
