BEGIN:VCALENDAR
PRODID:-//github.com/rianjs/ical.net//NONSGML ical.net 4.0//EN
VERSION:2.0
BEGIN:VEVENT
DESCRIPTION:Details:\nhttps://bbyo.org/bbyo-near-you/regions/greater-atlan
 ta-region/atlanta-council-dance
DTEND:20061202T230000
DTSTAMP:20260420T180516Z
DTSTART:20061202T200000
LOCATION:B'nai Torah
SEQUENCE:0
SUMMARY:Atlanta Council Dance
UID:63f7c83e-0d91-4e74-b694-d2c0fd2dc4ed
END:VEVENT
END:VCALENDAR
