BEGIN:VCALENDAR
PRODID:-//github.com/rianjs/ical.net//NONSGML ical.net 4.0//EN
VERSION:2.0
BEGIN:VEVENT
DESCRIPTION:Details:\nhttps://bbyo.org/bbyo-near-you/regions/central-regio
 n-west/gizborim-training-day\n\nSummary:\nCome join your fellow Gizborim 
 for a workday led by your Regional Counterparts (LaurEli)!
DTEND:20180826T121500
DTSTAMP:20260424T062333Z
DTSTART:20180826T094500
LOCATION:APJCC\, Los Gatos
SEQUENCE:0
SUMMARY:Gizborim Training Day
UID:81a3dfdf-b76b-4c8d-a970-53d7ca94bfb9
END:VEVENT
END:VCALENDAR
