BEGIN:VCALENDAR
PRODID:-//github.com/rianjs/ical.net//NONSGML ical.net 4.0//EN
VERSION:2.0
BEGIN:VEVENT
DESCRIPTION:Details:\nhttps://bbyo.org/bbyo-near-you/regions/new-england-r
 egion/bbyo-ner-bro-ga\n\nSummary:\nJoin BBYO NER for Bro-ga with Jordan H
 arpel as your instructor! Sponsored by Dave Hochman AZA!
DTEND:20201220T140000
DTSTAMP:20260423T200316Z
DTSTART:20201220T130000
LOCATION:Zoom Link
SEQUENCE:0
SUMMARY:BBYO NER Bro-ga
UID:6fcc4fc9-ef43-49a2-9754-96712ed8bd58
END:VEVENT
END:VCALENDAR
