BEGIN:VCALENDAR
PRODID:-//github.com/rianjs/ical.net//NONSGML ical.net 4.0//EN
VERSION:2.0
BEGIN:VEVENT
DESCRIPTION:Details:\nhttps://bbyo.org/bbyo-near-you/regions/lake-ontario-
 region/bbyo-connect-limo-scavenger-hunt\n\nSummary:\nFor more information
  please contact info@bbyo.ca
DTEND:20191006T160000
DTSTAMP:20260423T042654Z
DTSTART:20191006T130000
LOCATION:Schwartz/Reisman Centre
SEQUENCE:0
SUMMARY:BBYO Connect Limo  Scavenger Hunt
UID:c49c7c05-392f-4f56-93ea-b1d02e646f73
END:VEVENT
END:VCALENDAR
