BEGIN:VCALENDAR
PRODID:-//github.com/rianjs/ical.net//NONSGML ical.net 4.0//EN
VERSION:2.0
BEGIN:VEVENT
DESCRIPTION:Details:\nhttps://bbyo.org/bbyo-near-you/regions/rocky-mountai
 n-region/denver-chapter-meeting-(5)
DTEND:20200407T203000
DTSTAMP:20260424T062933Z
DTSTART:20200407T190000
LOCATION:Denver Colorado
SEQUENCE:0
SUMMARY:Denver Chapter Meeting
UID:6a0ca8ab-3571-4317-b507-73af0e0ac42d
END:VEVENT
END:VCALENDAR
