BEGIN:VCALENDAR
PRODID:-//github.com/rianjs/ical.net//NONSGML ical.net 4.0//EN
VERSION:2.0
BEGIN:VEVENT
DESCRIPTION:Details:\nhttps://bbyo.org/bbyo-near-you/regions/lonestar-regi
 on/ghc-fall-term-chapter-board-lti
DTEND:20190818T170000
DTSTAMP:20260423T042443Z
DTSTART:20190818T130000
LOCATION:Houston Texas
SEQUENCE:0
SUMMARY:GHC Fall Term Chapter Board LTI
UID:6d9f2bfc-e4d6-4232-84ce-312c946e54bd
END:VEVENT
END:VCALENDAR
