BEGIN:VCALENDAR
PRODID:-//github.com/rianjs/ical.net//NONSGML ical.net 4.0//EN
VERSION:2.0
BEGIN:VEVENT
DESCRIPTION:Details:\nhttps://bbyo.org/bbyo-near-you/regions/hudson-valley
 -region/westchester-winter-convention-find-the-hero-in-yo\n\nSummary:\nJo
 in us for our annual Winter Convention and experience the teen led magic 
 of BBYO! The year\, our theme is "Superheroes: Find the Hero in You"\, an
 d will be filled with a beautiful Shabbat\, m
DTEND:20161204T160000
DTSTAMP:20260422T143928Z
DTSTART:20161202T143000
LOCATION:Danbury Crowne Plaza
SEQUENCE:0
SUMMARY:Westchester Winter Convention: Find the Hero In You!
UID:6fbfe8b4-4b4b-45fb-9d27-13ce942536e3
END:VEVENT
END:VCALENDAR
