BEGIN:VCALENDAR
PRODID:-//github.com/rianjs/ical.net//NONSGML ical.net 4.0//EN
VERSION:2.0
BEGIN:VEVENT
DESCRIPTION:Details:\nhttps://bbyo.org/bbyo-near-you/regions/gold-coast-re
 gion/game-night-with-schusterman
DTEND:20231018T193000
DTSTAMP:20260422T202436Z
DTSTART:20231018T183000
LOCATION:Temple Beth El (Beck Family Campus)
SEQUENCE:0
SUMMARY:Game Night with Schusterman
UID:58cf7227-767b-4edf-8e71-c5ccc3b84b33
END:VEVENT
END:VCALENDAR
