BEGIN:VCALENDAR
PRODID:-//github.com/rianjs/ical.net//NONSGML ical.net 4.0//EN
VERSION:2.0
BEGIN:VEVENT
DESCRIPTION:Details:\nhttps://bbyo.org/bbyo-near-you/regions/pacific-weste
 rn-region/pwr-11th-regional-board-elections-and-states-in-pe
DTEND:20220515T180000
DTSTAMP:20260423T200447Z
DTSTART:20220515T092000
LOCATION:Los Angeled California
SEQUENCE:0
SUMMARY: PWR 11th Regional Board Elections and States  - In person option
UID:d7b70bff-719d-47cf-a35d-9d3ea59ec32e
END:VEVENT
END:VCALENDAR
