BEGIN:VCALENDAR
PRODID:-//github.com/rianjs/ical.net//NONSGML ical.net 4.0//EN
VERSION:2.0
BEGIN:VEVENT
DESCRIPTION:Details:\nhttps://bbyo.org/bbyo-near-you/regions/south-jersey-
 region/south-jersey-region-s-wintercon-you-ve-got-a-frien\n\nSummary:\nJo
 in SJR BBYO at Winter Con! Winter Con is our second convention of the yea
 r and really focuses on the essence of BBYO — our Jewish roots\, Sorority
 \, and Fraternity. We will kickoff the weeke
DTEND:20181202T130000
DTSTAMP:20260423T133829Z
DTSTART:20181130T150000
LOCATION:Appel Farm
SEQUENCE:0
SUMMARY:South Jersey Region's WinterCon: You've Got a Friend in Me
UID:a9e5a668-de4f-4d11-82da-6a0f8eafc126
END:VEVENT
END:VCALENDAR
