BEGIN:VCALENDAR
PRODID:-//github.com/rianjs/ical.net//NONSGML ical.net 4.0//EN
VERSION:2.0
BEGIN:VEVENT
DESCRIPTION:Details:\nhttps://bbyo.org/bbyo-near-you/regions/new-england-r
 egion/ner-senior-life-2021-2022-regional-board-installat
DTEND:20210526T220000
DTSTAMP:20260420T100511Z
DTSTART:20210526T200000
LOCATION:Zoom
SEQUENCE:0
SUMMARY:NER Senior Life & 2021 - 2022 Regional Board Installations
UID:4c748a6a-4268-4a9b-b8fc-ffbac39ea937
END:VEVENT
END:VCALENDAR
