BEGIN:VCALENDAR
PRODID:-//github.com/rianjs/ical.net//NONSGML ical.net 4.0//EN
VERSION:2.0
BEGIN:VEVENT
DESCRIPTION:Details:\nhttps://bbyo.org/bbyo-near-you/regions/miami-region/
 impact-theater-guests\n\nSummary:\nStudent written script about tolerance
 \, discrimination and the Holocaust.
DTEND;VALUE=DATE:20060202
DTSTAMP:20260423T002201Z
DTSTART;VALUE=DATE:20060202
LOCATION:Dave and Mary Alper JCC
SEQUENCE:0
SUMMARY:Impact Theater - guests
UID:18370633-de85-4c4b-8126-a9186de39e6a
END:VEVENT
END:VCALENDAR
