BEGIN:VCALENDAR
PRODID:-//github.com/rianjs/ical.net//NONSGML ical.net 4.0//EN
VERSION:2.0
BEGIN:VEVENT
DESCRIPTION:Details:\nhttps://bbyo.org/bbyo-near-you/regions/great-midwest
 -region/moreshet-ma-arav/m-m-bbyo-100th-birthday-bash
DTEND:20240225T153000
DTSTAMP:20260422T142333Z
DTSTART:20240225T133000
LOCATION:CBS
SEQUENCE:0
SUMMARY:M&M BBYO 100th Birthday Bash
UID:94d6734d-2fcc-4911-9034-a6a0de3f498e
END:VEVENT
END:VCALENDAR
