BEGIN:VCALENDAR
PRODID:-//github.com/rianjs/ical.net//NONSGML ical.net 4.0//EN
VERSION:2.0
BEGIN:VEVENT
DESCRIPTION:Details:\nhttps://bbyo.org/bbyo-near-you/regions/connecticut-v
 alley-region/cvr-spring-convention-2016-(pc-3050)\n\nSummary:\nSpring Con
 vention 2016 will take place April 8-10 in Danbury\, CT.  The cost for Sp
 ring Convention is $265 until March 17.  After March 17 the price increas
 es to $315 and registration closes
DTEND;VALUE=DATE:20160410
DTSTAMP:20260423T042654Z
DTSTART;VALUE=DATE:20160408
LOCATION:Danbury
SEQUENCE:0
SUMMARY:CVR Spring Convention 2016 (PC 3050)
UID:8e6b31eb-e18a-4fdc-b0a5-d12d65d7f08e
END:VEVENT
END:VCALENDAR
