BEGIN:VCALENDAR
PRODID:-//github.com/rianjs/ical.net//NONSGML ical.net 4.0//EN
VERSION:2.0
BEGIN:VEVENT
DESCRIPTION:Details:\nhttps://bbyo.org/bbyo-near-you/regions/eastern-regio
 n/simcha/tidewater-kickoff
DTEND:20240928T200000
DTSTAMP:20260423T002912Z
DTSTART:20240928T180000
LOCATION:Caplan's House
SEQUENCE:0
SUMMARY:Tidewater Kickoff
UID:1c24dec6-9780-4a17-ab71-4c9efa599c2e
END:VEVENT
END:VCALENDAR
