BEGIN:VCALENDAR
PRODID:-//github.com/rianjs/ical.net//NONSGML ical.net 4.0//EN
VERSION:2.0
BEGIN:VEVENT
DESCRIPTION:Details:\nhttps://bbyo.org/bbyo-near-you/regions/keystone-moun
 tain-region/bbg-brunch-rush-week
DTEND:20211010T120000
DTSTAMP:20260421T221011Z
DTSTART;VALUE=DATE:20211010
LOCATION:
SEQUENCE:0
SUMMARY:BBG Brunch - Rush Week
UID:0fdb1825-ee88-4510-9c91-c6eb7b44e3eb
END:VEVENT
END:VCALENDAR
