BEGIN:VCALENDAR
PRODID:-//github.com/rianjs/ical.net//NONSGML ical.net 4.0//EN
VERSION:2.0
BEGIN:VEVENT
DESCRIPTION:Details:\nhttps://bbyo.org/bbyo-near-you/regions/northern-regi
 on-east-northern-virginia-council/ic-2024-launch-party-at-the-bender-jcc
DTEND:20230928T200000
DTSTAMP:20260426T013202Z
DTSTART:20230928T190000
LOCATION:Bender JCC
SEQUENCE:0
SUMMARY:IC 2024 Launch Party at the BENDER JCC
UID:85c4c720-7997-4aa5-b3e2-53aa4d01a7ce
END:VEVENT
END:VCALENDAR
