BEGIN:VCALENDAR
PRODID:-//github.com/rianjs/ical.net//NONSGML ical.net 4.0//EN
VERSION:2.0
BEGIN:VEVENT
DESCRIPTION:Details:\nhttps://bbyo.org/bbyo-near-you/regions/kentucky-indi
 ana-ohio-region/kio-ic-swag-bag
DTEND:20220221T100000
DTSTAMP:20260423T043002Z
DTSTART:20220215T090000
LOCATION:
SEQUENCE:0
SUMMARY:KIO IC Swag Bag
UID:351225de-e324-4d8e-9e0a-01c55b895e77
END:VEVENT
END:VCALENDAR
