BEGIN:VCALENDAR
PRODID:-//github.com/rianjs/ical.net//NONSGML ical.net 4.0//EN
VERSION:2.0
BEGIN:VEVENT
DESCRIPTION:Details:\nhttps://bbyo.org/bbyo-near-you/regions/mid-america-r
 egion-omaha-council/omaha-council-annual-hamentaschen-bake-off\n\nSummary
 :\nCome to our annual tradition to see who can make the tastiest Hamentas
 chens in our Hamentaschen Bake Off!
DTEND:20230306T190000
DTSTAMP:20260421T043109Z
DTSTART:20230306T180000
LOCATION:JCC
SEQUENCE:0
SUMMARY:Omaha Council Annual Hamentaschen Bake Off
UID:17121a60-a6bb-4eb3-8943-89b82ed19188
END:VEVENT
END:VCALENDAR
