BEGIN:VCALENDAR
PRODID:-//github.com/rianjs/ical.net//NONSGML ical.net 4.0//EN
VERSION:2.0
BEGIN:VEVENT
DESCRIPTION:Details:\nhttps://bbyo.org/bbyo-near-you/regions/greater-atlan
 ta-region/92-and-72-board-meeting
DTEND:20201012T180000
DTSTAMP:20260421T010556Z
DTSTART:20201012T160000
LOCATION:MJCCA
SEQUENCE:0
SUMMARY:92 and 72 Board Meeting
UID:0e50ecec-8488-420b-acf8-60c852e4ff30
END:VEVENT
END:VCALENDAR
