BEGIN:VCALENDAR
PRODID:-//github.com/rianjs/ical.net//NONSGML ical.net 4.0//EN
VERSION:2.0
BEGIN:VEVENT
DESCRIPTION:Details:\nhttps://bbyo.org/bbyo-near-you/regions/northern-regi
 on-east-baltimore-council/aza-underground\n\nSummary:\nWe are so excited 
 to see all the Amazing Alephs in Baltimore Council this Saturday! This ev
 ent is completely free and we will provide some snacks. However\, please 
 eat dinner before the event
DTEND:20170318T230000
DTSTAMP:20260421T010435Z
DTSTART:20170318T190000
LOCATION:Owings Mills JCC
SEQUENCE:0
SUMMARY:AZA Underground
UID:a36bbbbe-2708-46ec-b7d4-6bc6773cb068
END:VEVENT
END:VCALENDAR
