BEGIN:VCALENDAR
PRODID:-//github.com/rianjs/ical.net//NONSGML ical.net 4.0//EN
VERSION:2.0
BEGIN:VEVENT
DESCRIPTION:Details:\nhttps://bbyo.org/bbyo-near-you/regions/wisconsin-reg
 ion/wi-oneg-12-18-15
DTEND;VALUE=DATE:20151218
DTSTAMP:20260422T054746Z
DTSTART;VALUE=DATE:20151218
LOCATION:
SEQUENCE:0
SUMMARY:WI - Oneg 12.18.15
UID:15bd7cfd-e429-4551-8f08-cea5707cb017
END:VEVENT
END:VCALENDAR
