BEGIN:VCALENDAR
PRODID:-//github.com/rianjs/ical.net//NONSGML ical.net 4.0//EN
VERSION:2.0
BEGIN:VEVENT
DESCRIPTION:Details:\nhttps://bbyo.org/bbyo-near-you/regions/northern-regi
 on-east-northern-virginia-council/nova-council-fall-kickoff-2018\n\nSumma
 ry:\nNoVA Council is kicking off the year once again with our annual fall
  bash!! Join us for food + drinks\, music\, a raffle\, outdoor games\, a 
 big/little reveal\, and so many more fun surprises!!\n\n
DTEND:20180922T203000
DTSTAMP:20260423T093431Z
DTSTART:20180922T173000
LOCATION:Alexandria Virginia
SEQUENCE:0
SUMMARY:NoVA Council Fall Kickoff 2018
UID:d01510b8-72b4-4ca1-9a36-871eda7438a7
END:VEVENT
END:VCALENDAR
