BEGIN:VCALENDAR
PRODID:-//github.com/rianjs/ical.net//NONSGML ical.net 4.0//EN
VERSION:2.0
BEGIN:VEVENT
DESCRIPTION:Details:\nhttps://bbyo.org/bbyo-near-you/regions/greater-atlan
 ta-region/gar-fall-fest\n\nSummary:\nGreater Atlanta BBYO’s first Fall Fe
 st\, an exclusive rave party for all Jewish 8-12th graders at Stone Summi
 t. Join us November 4 for an evening with music\, lights\, food trucks\, 
 rock climbing and exclusive BBYO swag.
DTEND:20181104T200000
DTSTAMP:20260422T055052Z
DTSTART:20181104T180000
LOCATION:Stone Summit
SEQUENCE:0
SUMMARY:GAR Fall Fest
UID:3588ce8b-87fa-415b-9720-4b34ad9e63ce
END:VEVENT
END:VCALENDAR
