BEGIN:VCALENDAR
PRODID:-//github.com/rianjs/ical.net//NONSGML ical.net 4.0//EN
VERSION:2.0
BEGIN:VEVENT
DESCRIPTION:Details:\nhttps://bbyo.org/bbyo-near-you/regions/keystone-moun
 tain-region/j-serve-shabbat-dinner
DTEND:20230414T190000
DTSTAMP:20260423T195306Z
DTSTART:20230414T170000
LOCATION:The Second Floor JCC
SEQUENCE:0
SUMMARY:J-Serve Shabbat Dinner
UID:07801bf7-6b0a-4f9f-8936-9787beaa86fe
END:VEVENT
END:VCALENDAR
