BEGIN:VCALENDAR
PRODID:-//github.com/rianjs/ical.net//NONSGML ical.net 4.0//EN
VERSION:2.0
BEGIN:VEVENT
DESCRIPTION:Details:\nhttps://bbyo.org/bbyo-near-you/regions/big-apple-reg
 ion/teen-connection-social-at-tbs\n\nSummary:\nTeen Connection welcomes a
 ll members and prospectives to a Social this evening.
DTEND;VALUE=DATE:20060216
DTSTAMP:20260424T213613Z
DTSTART;VALUE=DATE:20060216
LOCATION:Temple Beth Sholom
SEQUENCE:0
SUMMARY:Teen Connection Social at TBS
UID:ad0e3379-4854-4995-8079-c7a157d61f79
END:VEVENT
END:VCALENDAR
