BEGIN:VCALENDAR
PRODID:-//github.com/rianjs/ical.net//NONSGML ical.net 4.0//EN
VERSION:2.0
BEGIN:VEVENT
DESCRIPTION:Details:\nhttps://bbyo.org/bbyo-near-you/regions/northern-regi
 on-east-northern-virginia-council/hike-with-haganah-and-librescu
DTEND:20181027T120000
DTSTAMP:20260421T043610Z
DTSTART;VALUE=DATE:20181027
LOCATION:
SEQUENCE:0
SUMMARY:Hike with Haganah and Librescu
UID:3093a2fc-8607-45d9-9889-57207e7d9edb
END:VEVENT
END:VCALENDAR
