BEGIN:VCALENDAR
PRODID:-//github.com/rianjs/ical.net//NONSGML ical.net 4.0//EN
VERSION:2.0
BEGIN:VEVENT
DESCRIPTION:Details:\nhttps://bbyo.org/bbyo-near-you/regions/lonestar-regi
 on/isadore-shapiro/shapiro-big-little-event
DTEND:20230415T213000
DTSTAMP:20260424T093107Z
DTSTART:20230415T200000
LOCATION:
SEQUENCE:0
SUMMARY:Shapiro Big Little Event
UID:34267abc-af80-4c0f-aeb0-23f47c6f29ac
END:VEVENT
END:VCALENDAR
