BEGIN:VCALENDAR
PRODID:-//github.com/rianjs/ical.net//NONSGML ical.net 4.0//EN
VERSION:2.0
BEGIN:VEVENT
DESCRIPTION:Details:\nhttps://bbyo.org/bbyo-near-you/regions/northern-regi
 on-east-dc-council/azaa-ultimate-frisbee-(day-1)\n\nSummary:\nAZAA is bac
 k! This spring we will be playing Ultimate frisbee. Come together with yo
 ur fellow Alephs to see who is the ulitmate frisbee champ.\n\n
DTEND:20210321T170000
DTSTAMP:20260421T223738Z
DTSTART:20210321T130000
LOCATION:Rockville Maryland
SEQUENCE:0
SUMMARY:AZAA Ultimate Frisbee (Day 1)
UID:a78a9071-acbe-4692-b8ed-18f90e5704e3
END:VEVENT
END:VCALENDAR
