BEGIN:VCALENDAR
PRODID:-//github.com/rianjs/ical.net//NONSGML ical.net 4.0//EN
VERSION:2.0
BEGIN:VEVENT
DESCRIPTION:Details:\nhttps://bbyo.org/bbyo-near-you/regions/ohio-northern
 -region/onr-aza-winter-olympics
DTEND:20220206T160000
DTSTAMP:20260420T132400Z
DTSTART:20220206T130000
LOCATION:The JCC Pavillions
SEQUENCE:0
SUMMARY:ONR AZA Winter Olympics
UID:0c107ea3-5715-494c-9b60-7a82ec12ddcf
END:VEVENT
END:VCALENDAR
