BEGIN:VCALENDAR
PRODID:-//github.com/rianjs/ical.net//NONSGML ical.net 4.0//EN
VERSION:2.0
BEGIN:VEVENT
DESCRIPTION:Details:\nhttps://bbyo.org/bbyo-near-you/regions/lonestar-regi
 on/houston-azaa-basketball-league-fall-2022
DTEND:20221211T180000
DTSTAMP:20260425T235138Z
DTSTART:20221211T160000
LOCATION:Beren Academy
SEQUENCE:0
SUMMARY:Houston AZAA Basketball League Fall 2022
UID:be258b57-44a0-4ef1-bc1c-be534889a1df
END:VEVENT
END:VCALENDAR
