BEGIN:VCALENDAR
PRODID:-//github.com/rianjs/ical.net//NONSGML ical.net 4.0//EN
VERSION:2.0
BEGIN:VEVENT
DESCRIPTION:Details:\nhttps://bbyo.org/bbyo-near-you/regions/kentucky-indi
 ana-ohio-region/columbus-kickoff
DTEND:20170205T220000
DTSTAMP:20260420T181312Z
DTSTART:20170205T171500
LOCATION:Allen residencr
SEQUENCE:0
SUMMARY:Columbus kickoff
UID:52aded3f-3e3c-4329-992c-f904dbf95273
END:VEVENT
END:VCALENDAR
