BEGIN:VCALENDAR
PRODID:-//github.com/rianjs/ical.net//NONSGML ical.net 4.0//EN
VERSION:2.0
BEGIN:VEVENT
DESCRIPTION:Details:\nhttps://bbyo.org/bbyo-near-you/regions/liberty-regio
 n/yitzhak-rabin/yitz-ait-and-elections!
DTEND:20240609T140000
DTSTAMP:20260423T091758Z
DTSTART:20240609T110000
LOCATION:Wynnewood Pennsylvania
SEQUENCE:0
SUMMARY:Yitz AIT and Elections!
UID:31aa4a28-4484-4e90-b73d-e28131cc2e06
END:VEVENT
END:VCALENDAR
