BEGIN:VCALENDAR
PRODID:-//github.com/rianjs/ical.net//NONSGML ical.net 4.0//EN
VERSION:2.0
BEGIN:VEVENT
DESCRIPTION:Details:\nhttps://bbyo.org/bbyo-near-you/regions/evergreen-reg
 ion/rbo-2\n\nSummary:\nRBO #2 - meetings and planning for Spring Term
DTEND:20160117T150000
DTSTAMP:20260423T043001Z
DTSTART:20160116T180000
LOCATION:BB Camp
SEQUENCE:0
SUMMARY:RBO #2
UID:cefd0cc5-d567-4130-a1de-cf157628d583
END:VEVENT
END:VCALENDAR
