BEGIN:VCALENDAR
PRODID:-//github.com/rianjs/ical.net//NONSGML ical.net 4.0//EN
VERSION:2.0
BEGIN:VEVENT
DESCRIPTION:Details:\nhttps://bbyo.org/bbyo-near-you/regions/lonestar-regi
 on/candidates-lonestar-spring-elections
DTEND:20220130T200000
DTSTAMP:20260425T183026Z
DTSTART:20220130T130000
LOCATION:ALL OVER THE REGION
SEQUENCE:0
SUMMARY:CANDIDATES: LONESTAR SPRING ELECTIONS
UID:c2b3564c-9d70-471f-be06-281e78501261
END:VEVENT
END:VCALENDAR
