BEGIN:VCALENDAR
PRODID:-//github.com/rianjs/ical.net//NONSGML ical.net 4.0//EN
VERSION:2.0
BEGIN:VEVENT
DESCRIPTION:Details:\nhttps://bbyo.org/bbyo-near-you/regions/kentucky-indi
 ana-ohio-region/kio-ic-launch-night-on-zoom
DTEND:20230928T210000
DTSTAMP:20260421T073405Z
DTSTART:20230928T194500
LOCATION:Zoom
SEQUENCE:0
SUMMARY:KIO IC Launch Night on Zoom
UID:2395324f-33df-49f2-a264-1a008fa0137d
END:VEVENT
END:VCALENDAR
