BEGIN:VCALENDAR
PRODID:-//github.com/rianjs/ical.net//NONSGML ical.net 4.0//EN
VERSION:2.0
BEGIN:VEVENT
DESCRIPTION:Details:\nhttps://bbyo.org/bbyo-near-you/regions/eastern-regio
 n/virginia-council-bus-to-ic-(2140)-(one-way)\n\nSummary:\nCome join your
  friends from Virginia Council on the bus one-way from IC!
DTEND:20160216T160000
DTSTAMP:20260420T111151Z
DTSTART:20160215T100000
LOCATION:Simon Family JCC
SEQUENCE:0
SUMMARY:Virginia Council Bus to IC (2140) (One Way)
UID:aacbafb5-a59a-4d4d-afb2-7af0ee373a94
END:VEVENT
END:VCALENDAR
