BEGIN:VCALENDAR
PRODID:-//github.com/rianjs/ical.net//NONSGML ical.net 4.0//EN
VERSION:2.0
BEGIN:VEVENT
DESCRIPTION:Details:\nhttps://bbyo.org/bbyo-near-you/regions/hudson-valley
 -region/madhim-aza-rlti-chapter-planning
DTEND:20200913T130000
DTSTAMP:20260422T003715Z
DTSTART:20200913T100000
LOCATION:Scarsdale New York
SEQUENCE:0
SUMMARY:Madhim AZA RLTI Chapter Planning
UID:e79529f1-e3d0-4336-9ef1-ea343b015f58
END:VEVENT
END:VCALENDAR
