BEGIN:VCALENDAR
PRODID:-//github.com/rianjs/ical.net//NONSGML ical.net 4.0//EN
VERSION:2.0
BEGIN:VEVENT
DESCRIPTION:Details:\nhttps://bbyo.org/bbyo-near-you/regions/central-regio
 n-west/crw-cubs-shabbat
DTEND:20160325T220000
DTSTAMP:20260425T235327Z
DTSTART:20160325T190000
LOCATION:Oshman Family Jewish Community Center
SEQUENCE:0
SUMMARY:CRW Cubs Shabbat
UID:64652fd6-98cb-43fd-8df6-2ba5aa81028a
END:VEVENT
END:VCALENDAR
